BEGIN:VCALENDAR
PRODID:-//eluceo/ical//2.0/EN
VERSION:2.0
CALSCALE:GREGORIAN
BEGIN:VEVENT
UID:a50b35c1c3a95310dbe03cdfa5709ac8
DTSTAMP:20260422T054813Z
SUMMARY:An Evening of Gratitude: Zucker Educational Campus Dedication at AH
 A
DESCRIPTION:Charleston Jewish Federation\nJewish Community Calendar\nhttps:
 //jewishcharleston.org/event-calendar/addlestone-event-1702055805\n\nAn Ev
 ening of Gratitude: Zucker Educational Campus Dedication at AHA 
DTSTART;TZID=America/New_York:20240915T170000
DTEND;TZID=America/New_York:20240915T210000
END:VEVENT
END:VCALENDAR
