BEGIN:VCALENDAR
PRODID:-//eluceo/ical//2.0/EN
VERSION:2.0
CALSCALE:GREGORIAN
BEGIN:VEVENT
UID:1fe239d63e3583bb011733663d92db9d
DTSTAMP:20260422T135236Z
SUMMARY:2023 Jewish Heritage Night with the River Dogs
DESCRIPTION:Charleston Jewish Federation\nJewish Community Calendar\nhttps:
 //jewishcharleston.org/event-calendar/2023-jewish-heritage-night-with-the-
 river-dogs\n\nStep up to the plate\, baseball enthusiasts and community ch
 ampions alike! It&#39\;s time to gear up for an extraordinary evening cele
 brating Jewish Heritage Night at the Joe. This event welcomes all\, from t
 he tiniest sluggers to the most seasoned fans. Bring the whole family and 
 experience the joy of cheering on our beloved Charleston RiverDogs while c
 reating lasting memories together. \n\nSecure your tickets today ($5/each
 ) to ensure you don&#39\;t miss the excitement! It&#39\;s time to create m
 emories\, b...
DTSTART;TZID=America/New_York:20230806T170000
DTEND;TZID=America/New_York:20230806T200000
END:VEVENT
END:VCALENDAR
